BEGIN:VCALENDAR
VERSION:2.0
PRODID:-//Pro loco Binasco - ECPv6.15.20//NONSGML v1.0//EN
CALSCALE:GREGORIAN
METHOD:PUBLISH
X-WR-CALNAME:Pro loco Binasco
X-ORIGINAL-URL:https://www.prolocobinasco.it
X-WR-CALDESC:Eventi per Pro loco Binasco
REFRESH-INTERVAL;VALUE=DURATION:PT1H
X-Robots-Tag:noindex
X-PUBLISHED-TTL:PT1H
BEGIN:VTIMEZONE
TZID:Europe/Rome
BEGIN:DAYLIGHT
TZOFFSETFROM:+0100
TZOFFSETTO:+0200
TZNAME:CEST
DTSTART:20150329T010000
END:DAYLIGHT
BEGIN:STANDARD
TZOFFSETFROM:+0200
TZOFFSETTO:+0100
TZNAME:CET
DTSTART:20151025T010000
END:STANDARD
BEGIN:DAYLIGHT
TZOFFSETFROM:+0100
TZOFFSETTO:+0200
TZNAME:CEST
DTSTART:20160327T010000
END:DAYLIGHT
BEGIN:STANDARD
TZOFFSETFROM:+0200
TZOFFSETTO:+0100
TZNAME:CET
DTSTART:20161030T010000
END:STANDARD
BEGIN:DAYLIGHT
TZOFFSETFROM:+0100
TZOFFSETTO:+0200
TZNAME:CEST
DTSTART:20170326T010000
END:DAYLIGHT
BEGIN:STANDARD
TZOFFSETFROM:+0200
TZOFFSETTO:+0100
TZNAME:CET
DTSTART:20171029T010000
END:STANDARD
END:VTIMEZONE
BEGIN:VEVENT
DTSTART;VALUE=DATE:20160209
DTEND;VALUE=DATE:20160210
DTSTAMP:20260423T164415
CREATED:20160205T104215Z
LAST-MODIFIED:20160205T104328Z
UID:3564-1454976000-1455062399@www.prolocobinasco.it
SUMMARY:Carnevale
DESCRIPTION:festa di carnevale
URL:https://www.prolocobinasco.it/event/carnevale/
LOCATION:Oratorio\, Binasco\, 20082\, Italia
CATEGORIES:festa
ORGANIZER;CN="Pro Loco":MAILTO:info@prolocobinasco.it
END:VEVENT
END:VCALENDAR